Workbook

Sheet Booking Request
F2: APPLICATION TO HIRE FACILITIES
F3: St Julian's School Heather Road, Newport, NP19 7XU
B4: Full name of organisation / group / activity:
B5: Contact Name
B6: Telephone number
B7: Invoice Name / Address including postcode
B8: E-mail address
B9: All charges will be invoiced through Newport City Council Central Debtors. Please specify the invoice details above.
B11: Purpose of use (please state exact purpose of use required e.g. meeting, training, concert, etc.
B12: Please note: If caretaker is called out in addition to the agreed below, an additional charge will be applied after the event.
B13: Day/Date | G13: Facility required (please see final page with costs) | I13: Cost per hour | J13: Total No. of attendees on site | K13: Site to be open/closed
K14: Site open at | M14: Site closed at
B21: How would you like the room arranged for your meeting. (please tick)
B22: Theatre Style | F22: FALSE | H22: Horseshoe with Tables | K22: FALSE | L22: Other (Please specify)
B23: Classroom Style | F23: FALSE | H23: Horseshoe without Tables | K23: FALSE
B24: Additional Information – please use this space for multi area lettings, further details for a one off letting, fixture listings, other changes (i.e. holiday cancellations) or equipment if required inc number chairs / tables setup:
B28: Confirmation of the letting will not be made until the following documents / references are provided: | J28: TICK LIST (included) | K28: If document not included, please state reason below
B29: DBS Document for each coach/instructor | J29: FALSE
B30: National Governing Body of Affiliation | J30: FALSE
B31: Relevant Public Liability Insurance (ESSENTIAL) | J31: FALSE
B32: First Aid Qualification | J32: FALSE
B33: Nominated Safeguarding Officer: Name(s) | J33: FALSE
C35: IMPORTANT INDEMNITY INFORMATION. PLEASE READ BEFORE SIGNING / EMAILING BOOKING FORM
B36: 1 | C36: The term “Room” in these conditions shall be taken to mean the particular accommodation or facility which the hirer has contracted to use.
B37: 2 | C37: Use of the school kitchen can only be granted with approval from the Schools Operatations Manager (the use of the cookery classroom will be offered first).
B38: 3 | C38: The person by whom the application is signed shall be considered the “Hirer”. Where a promoting organisation is named, the organization shall also be considered the hirer and shall be jointly and severally liable hereon with the person who signs the application form.
B39: 4 | C39: All fees must be paid in advance of the hiring unless otherwise agreed by the Headteacher. Cheques for hire should be made payable to “St Julian’s School” and received at least one month prior to your booking.
B40: 5 | C40: An Invoice will be issued by Newport City Council for any hires over £100 and by the School for under £100
B41: 6 | C41: The Hirer shall, at the expiry of the period of hiring, leave the Room and adjacent premises in a clean and orderly state properly locked and secured unless directed otherwise and any contents temporarily removed from their usual positions replaced.
B42: =B41+1 -> 7 | C42: The school must be vacated within fifteen minutes after the agreed period of hiring.
B43: =B42+1 -> 8 | C43: Notice of cancellation of booking(s) must be made in writing to the Operations Manager/Headteacher who will inform the Lead Caretaker. At least 14 calendar days notice is required.
B44: =B43+1 -> 9 | C44: The Governing Body will not be liable for any loss due to breakdown of machinery, failure of supply of electricity, leakage of water, fire, Government restrictions or act of God which may cause the Room or any part thereof being rendered unfit or unavailable for the use for which it has been hired. School functions have priority and if a booking has, as a result, to be cancelled reasonable notice will be given.
B45: =B44+1 -> 10 | C45: The Governing Body reserves the right to cancel at any time during the Hirers period of booking any unexpired booking for the period in the event of failure to observe and perform any of these Conditions of Hire or non-use or misuse of the Room and/or adjacent premises of the Council by the Hirer as a result of hiring.
B46: =B45+1 -> 11 | C46: The hirer shall not use rooms and adjacent premises for any purposes other than that described in the application form and shall not sub-hire, or allow the premises to be used for any unlawful purpose or bring onto the premises anything which may involve increased risk of damage, fire or invalidate any policy of insurance in respect of these premises.
B47: =B46+1 -> 12 | C47: The Hirer is not entitled to use or enter the room at any time other than the specified hours for which the Room is hired unless prior arrangement is made with the Headteacher.
B48: =B47+1 -> 13 | C48: The Hirer shall be responsible for any damage which may occur to the room and adjacent premises during the period of hire or while persons are entering or leaving the room pursuant to the hire, and shall indemnify the Governing Body for the cost of repair of such damage which arises from any act or omission on the part of the Hirer, his servants, agents or any person resorting to the Room by reason of the use of the Room by the hire. The Governing Body advises that groups/clubs take out an insurance policy to cover this indemnity.
B49: =B48+1 -> 14 | C49: Newport City Council and the Governing Body are under no liability whatsoever in respect of personal injury, loss or damage incurred by the hirer and others attending the School. Again, the Governing Body recommends that groups/clubs take out an insurance policy to cover this indemnity.
B50: =B49+1 -> 15 | C50: The Hirer shall be responsible that good order is kept in the Room during the period of hire.
B51: =B50+1 -> 16 | C51: The Governing Body reserve the right to end any entertainment or meeting not properly conducted
B52: =B51+1 -> 17 | C52: No bolts, tacks, screws, bits, pins or other like objects shall be driven into any part of the Room nor shall any advertisement or notices be placed on walls
...

Sheet COSTS 2023-24
B1: Facility | C1: Availability | D1: Hire charges 2023-24
D2: 2023/24 Prices EXCL VAT | E2: VAT | F2: Total Inc VAT per hour
B3: Conference Room | C3: Term Time (Subject to availability), evenings and weekends | D3: 14.5 | E3: =D3*20% -> 2.9 | F3: =D3+E3 -> 17.4
B4: IT Suite | C4: Evening, weekends and non-term time | D4: 22 | E4: =D4*20% -> 4.4 | F4: =D4+E4 -> 26.4
B5: The Learning Resource Centre (LRC) | D5: 14.5 | E5: =D5*20% -> 2.9 | F5: =D5+E5 -> 17.4
B6: Large Teaching Room | D6: 14.5 | E6: =D6*20% -> 2.9 | F6: =D6+E6 -> 17.4
B7: Jubilee Classroom | D7: 14.5 | E7: =D7*20% -> 2.9 | F7: =D7+E7 -> 17.4
B8: Drama Studios | D8: 14.5 | E8: =D8*20% -> 2.9 | F8: =D8+E8 -> 17.4
B9: Aspire Café | D9: 14.5 | E9: =D9*20% -> 2.9 | F9: =D9+E9 -> 17.4
B10: Cooking Room | D10: 45.6 | E10: =D10*20% -> 9.12 | F10: =D10+E10 -> 54.72
B11: Main Toilets | D11: £ - | E11: - | F11: -
B12: Sports Halls | D12: 32 | E12: =D12*20% -> 6.4 | F12: =D12+E12 -> 38.4
B13: Changing Rooms | D13: £ - | E13: - | F13: -
B14: School Halls | D14: 32 | E14: =D14*20% -> 6.4 | F14: =D14+E14 -> 38.4
B15: Extra Facilities: Front Field Side Field | C15: Evening, weekends and non-term time. Subject to availability and weather conditions. | D15: 23 | E15: =D15*20% -> 4.6 | F15: =D15+E15 -> 27.6
B16: Extra Facilities: Enclosed Multi-Games Area | C16: Evening, weekends and non-term time. Subject to availability and weather conditions. | D16: 11.55 | E16: =D16*20% -> 2.31 | F16: =D16+E16 -> 13.86
B17: External Facilities | C17: Evening, weekends and non-term time | D17: 46 | E17: =D17*20% -> 9.2 | F17: =D17+E17 -> 55.2
B18: External Storage Area(s) | C18: All | D18: 115 | E18: =D18*20% -> 23 | F18: =D18+E18 -> 138
B19: Photocopying 0.10 (B & W) / 0.15 (Col) + VAT | C19: Black and White | D19: 0.12 | E19: =D19*20% -> 0.024 | F19: =D19+E19 -> 0.144
C20: Colour | D20: 0.15 | E20: =D20*20% -> 0.03 | F20: =D20+E20 -> 0.18
B21: Cleaning after event | C21: Per hour per cleaner | D21: 25 | E21: =D21*20% -> 5 | F21: =D21+E21 -> 30
B22: Caretaker Open/close | C22: To open and Close, any additonal cals outs will be charged after the event | D22: 49.95 | E22: =D22*20% -> 9.99 | F22: =D22+E22 -> 59.94

Sheet Confirmation of Hire and Charge
B1: Office use only
B3: Day/Date of hire | D3: Facility required | E3: Site to be open/closed | G3: Total number of hours | I3: Price per Unit (ex VAT) | J3: VAT Code | K3: VAT Rate | L3: VAT Amount | M3: Amount Inc VAT
E4: Start Time hh:mm | F4: End Time hh:mm | G4: Auto calculate | H4: Number of hours
B5: Eg. 01/04/2023 | D5: Large Teaching Room | E5: 0.5 | F5: 0.66666667 | G5: =F5-E5 -> 0.16666667 | H5: 4 | I5: =if(D5='COSTS 2023-24'!$B$3,H5*'COSTS 2023-24'!$D$3,if(D5='COSTS 2023-24'!$B$4,H5*'COSTS 2023-24'!$D$4,if(D5='COSTS 2023-24'!$B$5,H5*'COSTS 2023-24'!$D$5,if(D5='COSTS 2023-24'!$B$6,H5*'COSTS 2023-24'!$D$6,if(D5='COSTS 2023-24'!$B$7,H5*'COSTS 2023-24'!$D$7,if(D5='COSTS 2023-24'!$B$8,H5*'COSTS 2023-24'!$D$8,if(D5='COSTS 2023-24'!$B$9,H5*'COSTS 2023-24'!$D$9,if(D5='COSTS 2023-24'!$B$10,H5*'COSTS 2023-24'!$D$10,if(D5='COSTS 2023-24'!$B$11,H5*'COSTS 2023-24'!$D$11,if(D5='COSTS 2023-24'!$B$12,H5*'COSTS 2023-24'!$D$12,if(D5='COSTS 2023-24'!$B$13,H5*'COSTS 2023-24'!$D$13,if(D5='COSTS 2023-24'!$B$14,H5*'COSTS 2023-24'!$D$14,if(D5='COSTS 2023-24'!$B$15,H5*'COSTS 2023-24'!$D$15,if(D5='COSTS 2023-24'!$B$16,H5*'COSTS 2023-24'!$D$16,if(D5='COSTS 2023-24'!$B$17,H5*'COSTS 2023-24'!$D$17,if(D5='COSTS 2023-24'!$B$18,H5*'COSTS 2023-24'!$D$18,if(D5='COSTS 2023-24'!$B$19,H5*'COSTS 2023-24'!$D$19,if(D5='COSTS 2023-24'!$B$20,H5*'COSTS 2023-24'!$D$20,if(D5='COSTS 2023-24'!$B$21,H5*'COSTS 2023-24'!$D$21,if(D5='COSTS 2023-24'!$B$22,H5*'COSTS 2023-24'!$D$22,"")))))))))))))))))))) -> 58 | J5: Standard | K5: =if(J5="Standard",0.2,0) -> 0.2 | L5: =I5*K5 -> 11.6 | M5: =I5+L5 -> 69.6
G6: =F6-E6 -> 0 | H6: =G6*24 -> 0 | I6: =if(D6='COSTS 2023-24'!$B$3,H6*'COSTS 2023-24'!$D$3,if(D6='COSTS 2023-24'!$B$4,H6*'COSTS 2023-24'!$D$4,if(D6='COSTS 2023-24'!$B$5,H6*'COSTS 2023-24'!$D$5,if(D6='COSTS 2023-24'!$B$6,H6*'COSTS 2023-24'!$D$6,if(D6='COSTS 2023-24'!$B$7,H6*'COSTS 2023-24'!$D$7,if(D6='COSTS 2023-24'!$B$8,H6*'COSTS 2023-24'!$D$8,if(D6='COSTS 2023-24'!$B$9,H6*'COSTS 2023-24'!$D$9,if(D6='COSTS 2023-24'!$B$10,H6*'COSTS 2023-24'!$D$10,if(D6='COSTS 2023-24'!$B$11,H6*'COSTS 2023-24'!$D$11,if(D6='COSTS 2023-24'!$B$12,H6*'COSTS 2023-24'!$D$12,if(D6='COSTS 2023-24'!$B$13,H6*'COSTS 2023-24'!$D$13,if(D6='COSTS 2023-24'!$B$14,H6*'COSTS 2023-24'!$D$14,if(D6='COSTS 2023-24'!$B$15,H6*'COSTS 2023-24'!$D$15,if(D6='COSTS 2023-24'!$B$16,H6*'COSTS 2023-24'!$D$16,if(D6='COSTS 2023-24'!$B$17,H6*'COSTS 2023-24'!$D$17,if(D6='COSTS 2023-24'!$B$18,H6*'COSTS 2023-24'!$D$18,if(D6='COSTS 2023-24'!$B$19,H6*'COSTS 2023-24'!$D$19,if(D6='COSTS 2023-24'!$B$20,H6*'COSTS 2023-24'!$D$20,if(D6='COSTS 2023-24'!$B$21,H6*'COSTS 2023-24'!$D$21,if(D6='COSTS 2023-24'!$B$22,H6*'COSTS 2023-24'!$D$22,"")))))))))))))))))))) -> 0 | K6: =if(J6="Standard",0.2,0) -> 0 | L6: =I6*K6 -> 0 | M6: =I6+L6 -> 0
G7: =F7-E7 -> 0 | H7: =G7*24 -> 0 | I7: =if(D7='COSTS 2023-24'!$B$3,H7*'COSTS 2023-24'!$D$3,if(D7='COSTS 2023-24'!$B$4,H7*'COSTS 2023-24'!$D$4,if(D7='COSTS 2023-24'!$B$5,H7*'COSTS 2023-24'!$D$5,if(D7='COSTS 2023-24'!$B$6,H7*'COSTS 2023-24'!$D$6,if(D7='COSTS 2023-24'!$B$7,H7*'COSTS 2023-24'!$D$7,if(D7='COSTS 2023-24'!$B$8,H7*'COSTS 2023-24'!$D$8,if(D7='COSTS 2023-24'!$B$9,H7*'COSTS 2023-24'!$D$9,if(D7='COSTS 2023-24'!$B$10,H7*'COSTS 2023-24'!$D$10,if(D7='COSTS 2023-24'!$B$11,H7*'COSTS 2023-24'!$D$11,if(D7='COSTS 2023-24'!$B$12,H7*'COSTS 2023-24'!$D$12,if(D7='COSTS 2023-24'!$B$13,H7*'COSTS 2023-24'!$D$13,if(D7='COSTS 2023-24'!$B$14,H7*'COSTS 2023-24'!$D$14,if(D7='COSTS 2023-24'!$B$15,H7*'COSTS 2023-24'!$D$15,if(D7='COSTS 2023-24'!$B$16,H7*'COSTS 2023-24'!$D$16,if(D7='COSTS 2023-24'!$B$17,H7*'COSTS 2023-24'!$D$17,if(D7='COSTS 2023-24'!$B$18,H7*'COSTS 2023-24'!$D$18,if(D7='COSTS 2023-24'!$B$19,H7*'COSTS 2023-24'!$D$19,if(D7='COSTS 2023-24'!$B$20,H7*'COSTS 2023-24'!$D$20,if(D7='COSTS 2023-24'!$B$21,H7*'COSTS 2023-24'!$D$21,if(D7='COSTS 2023-24'!$B$22,H7*'COSTS 2023-24'!$D$22,"")))))))))))))))))))) -> 0 | K7: =if(J7="Standard",0.2,0) -> 0 | L7: =I7*K7 -> 0 | M7: =I7+L7 -> 0
G8: =F8-E8 -> 0 | H8: =G8*24 -> 0 | I8: =if(D8='COSTS 2023-24'!$B$3,H8*'COSTS 2023-24'!$D$3,if(D8='COSTS 2023-24'!$B$4,H8*'COSTS 2023-24'!$D$4,if(D8='COSTS 2023-24'!$B$5,H8*'COSTS 2023-24'!$D$5,if(D8='COSTS 2023-24'!$B$6,H8*'COSTS 2023-24'!$D$6,if(D8='COSTS 2023-24'!$B$7,H8*'COSTS 2023-24'!$D$7,if(D8='COSTS 2023-24'!$B$8,H8*'COSTS 2023-24'!$D$8,if(D8='COSTS 2023-24'!$B$9,H8*'COSTS 2023-24'!$D$9,if(D8='COSTS 2023-24'!$B$10,H8*'COSTS 2023-24'!$D$10,if(D8='COSTS 2023-24'!$B$11,H8*'COSTS 2023-24'!$D$11,if(D8='COSTS 2023-24'!$B$12,H8*'COSTS 2023-24'!$D$12,if(D8='COSTS 2023-24'!$B$13,H8*'COSTS 2023-24'!$D$13,if(D8='COSTS 2023-24'!$B$14,H8*'COSTS 2023-24'!$D$14,if(D8='COSTS 2023-24'!$B$15,H8*'COSTS 2023-24'!$D$15,if(D8='COSTS 2023-24'!$B$16,H8*'COSTS 2023-24'!$D$16,if(D8='COSTS 2023-24'!$B$17,H8*'COSTS 2023-24'!$D$17,if(D8='COSTS 2023-24'!$B$18,H8*'COSTS 2023-24'!$D$18,if(D8='COSTS 2023-24'!$B$19,H8*'COSTS 2023-24'!$D$19,if(D8='COSTS 2023-24'!$B$20,H8*'COSTS 2023-24'!$D$20,if(D8='COSTS 2023-24'!$B$21,H8*'COSTS 2023-24'!$D$21,if(D8='COSTS 2023-24'!$B$22,H8*'COSTS 2023-24'!$D$22,"")))))))))))))))))))) -> 0 | K8: =if(J8="Standard",0.2,0) -> 0 | L8: =I8*K8 -> 0 | M8: =I8+L8 -> 0
G9: =F9-E9 -> 0 | H9: =G9*24 -> 0 | I9: =if(D9='COSTS 2023-24'!$B$3,H9*'COSTS 2023-24'!$D$3,if(D9='COSTS 2023-24'!$B$4,H9*'COSTS 2023-24'!$D$4,if(D9='COSTS 2023-24'!$B$5,H9*'COSTS 2023-24'!$D$5,if(D9='COSTS 2023-24'!$B$6,H9*'COSTS 2023-24'!$D$6,if(D9='COSTS 2023-24'!$B$7,H9*'COSTS 2023-24'!$D$7,if(D9='COSTS 2023-24'!$B$8,H9*'COSTS 2023-24'!$D$8,if(D9='COSTS 2023-24'!$B$9,H9*'COSTS 2023-24'!$D$9,if(D9='COSTS 2023-24'!$B$10,H9*'COSTS 2023-24'!$D$10,if(D9='COSTS 2023-24'!$B$11,H9*'COSTS 2023-24'!$D$11,if(D9='COSTS 2023-24'!$B$12,H9*'COSTS 2023-24'!$D$12,if(D9='COSTS 2023-24'!$B$13,H9*'COSTS 2023-24'!$D$13,if(D9='COSTS 2023-24'!$B$14,H9*'COSTS 2023-24'!$D$14,if(D9='COSTS 2023-24'!$B$15,H9*'COSTS 2023-24'!$D$15,if(D9='COSTS 2023-24'!$B$16,H9*'COSTS 2023-24'!$D$16,if(D9='COSTS 2023-24'!$B$17,H9*'COSTS 2023-24'!$D$17,if(D9='COSTS 2023-24'!$B$18,H9*'COSTS 2023-24'!$D$18,if(D9='COSTS 2023-24'!$B$19,H9*'COSTS 2023-24'!$D$19,if(D9='COSTS 2023-24'!$B$20,H9*'COSTS 2023-24'!$D$20,if(D9='COSTS 2023-24'!$B$21,H9*'COSTS 2023-24'!$D$21,if(D9='COSTS 2023-24'!$B$22,H9*'COSTS 2023-24'!$D$22,"")))))))))))))))))))) -> 0 | K9: =if(J9="Standard",0.2,0) -> 0 | L9: =I9*K9 -> 0 | M9: =I9+L9 -> 0
G10: =F10-E10 -> 0 | H10: =G10*24 -> 0 | I10: =if(D10='COSTS 2023-24'!$B$3,H10*'COSTS 2023-24'!$D$3,if(D10='COSTS 2023-24'!$B$4,H10*'COSTS 2023-24'!$D$4,if(D10='COSTS 2023-24'!$B$5,H10*'COSTS 2023-24'!$D$5,if(D10='COSTS 2023-24'!$B$6,H10*'COSTS 2023-24'!$D$6,if(D10='COSTS 2023-24'!$B$7,H10*'COSTS 2023-24'!$D$7,if(D10='COSTS 2023-24'!$B$8,H10*'COSTS 2023-24'!$D$8,if(D10='COSTS 2023-24'!$B$9,H10*'COSTS 2023-24'!$D$9,if(D10='COSTS 2023-24'!$B$10,H10*'COSTS 2023-24'!$D$10,if(D10='COSTS 2023-24'!$B$11,H10*'COSTS 2023-24'!$D$11,if(D10='COSTS 2023-24'!$B$12,H10*'COSTS 2023-24'!$D$12,if(D10='COSTS 2023-24'!$B$13,H10*'COSTS 2023-24'!$D$13,if(D10='COSTS 2023-24'!$B$14,H10*'COSTS 2023-24'!$D$14,if(D10='COSTS 2023-24'!$B$15,H10*'COSTS 2023-24'!$D$15,if(D10='COSTS 2023-24'!$B$16,H10*'COSTS 2023-24'!$D$16,if(D10='COSTS 2023-24'!$B$17,H10*'COSTS 2023-24'!$D$17,if(D10='COSTS 2023-24'!$B$18,H10*'COSTS 2023-24'!$D$18,if(D10='COSTS 2023-24'!$B$19,H10*'COSTS 2023-24'!$D$19,if(D10='COSTS 2023-24'!$B$20,H10*'COSTS 2023-24'!$D$20,if(D10='COSTS 2023-24'!$B$21,H10*'COSTS 2023-24'!$D$21,if(D10='COSTS 2023-24'!$B$22,H10*'COSTS 2023-24'!$D$22,"")))))))))))))))))))) -> 0 | K10: =if(J10="Standard",0.2,0) -> 0 | L10: =I10*K10 -> 0 | M10: =I10+L10 -> 0
G11: =F11-E11 -> 0 | H11: =G11*24 -> 0 | I11: =if(D11='COSTS 2023-24'!$B$3,H11*'COSTS 2023-24'!$D$3,if(D11='COSTS 2023-24'!$B$4,H11*'COSTS 2023-24'!$D$4,if(D11='COSTS 2023-24'!$B$5,H11*'COSTS 2023-24'!$D$5,if(D11='COSTS 2023-24'!$B$6,H11*'COSTS 2023-24'!$D$6,if(D11='COSTS 2023-24'!$B$7,H11*'COSTS 2023-24'!$D$7,if(D11='COSTS 2023-24'!$B$8,H11*'COSTS 2023-24'!$D$8,if(D11='COSTS 2023-24'!$B$9,H11*'COSTS 2023-24'!$D$9,if(D11='COSTS 2023-24'!$B$10,H11*'COSTS 2023-24'!$D$10,if(D11='COSTS 2023-24'!$B$11,H11*'COSTS 2023-24'!$D$11,if(D11='COSTS 2023-24'!$B$12,H11*'COSTS 2023-24'!$D$12,if(D11='COSTS 2023-24'!$B$13,H11*'COSTS 2023-24'!$D$13,if(D11='COSTS 2023-24'!$B$14,H11*'COSTS 2023-24'!$D$14,if(D11='COSTS 2023-24'!$B$15,H11*'COSTS 2023-24'!$D$15,if(D11='COSTS 2023-24'!$B$16,H11*'COSTS 2023-24'!$D$16,if(D11='COSTS 2023-24'!$B$17,H11*'COSTS 2023-24'!$D$17,if(D11='COSTS 2023-24'!$B$18,H11*'COSTS 2023-24'!$D$18,if(D11='COSTS 2023-24'!$B$19,H11*'COSTS 2023-24'!$D$19,if(D11='COSTS 2023-24'!$B$20,H11*'COSTS 2023-24'!$D$20,if(D11='COSTS 2023-24'!$B$21,H11*'COSTS 2023-24'!$D$21,if(D11='COSTS 2023-24'!$B$22,H11*'COSTS 2023-24'!$D$22,"")))))))))))))))))))) -> 0 | K11: =if(J11="Standard",0.2,0) -> 0 | L11: =I11*K11 -> 0 | M11: =I11+L11 -> 0
G12: =F12-E12 -> 0 | H12: =G12*24 -> 0 | I12: =if(D12='COSTS 2023-24'!$B$3,H12*'COSTS 2023-24'!$D$3,if(D12='COSTS 2023-24'!$B$4,H12*'COSTS 2023-24'!$D$4,if(D12='COSTS 2023-24'!$B$5,H12*'COSTS 2023-24'!$D$5,if(D12='COSTS 2023-24'!$B$6,H12*'COSTS 2023-24'!$D$6,if(D12='COSTS 2023-24'!$B$7,H12*'COSTS 2023-24'!$D$7,if(D12='COSTS 2023-24'!$B$8,H12*'COSTS 2023-24'!$D$8,if(D12='COSTS 2023-24'!$B$9,H12*'COSTS 2023-24'!$D$9,if(D12='COSTS 2023-24'!$B$10,H12*'COSTS 2023-24'!$D$10,if(D12='COSTS 2023-24'!$B$11,H12*'COSTS 2023-24'!$D$11,if(D12='COSTS 2023-24'!$B$12,H12*'COSTS 2023-24'!$D$12,if(D12='COSTS 2023-24'!$B$13,H12*'COSTS 2023-24'!$D$13,if(D12='COSTS 2023-24'!$B$14,H12*'COSTS 2023-24'!$D$14,if(D12='COSTS 2023-24'!$B$15,H12*'COSTS 2023-24'!$D$15,if(D12='COSTS 2023-24'!$B$16,H12*'COSTS 2023-24'!$D$16,if(D12='COSTS 2023-24'!$B$17,H12*'COSTS 2023-24'!$D$17,if(D12='COSTS 2023-24'!$B$18,H12*'COSTS 2023-24'!$D$18,if(D12='COSTS 2023-24'!$B$19,H12*'COSTS 2023-24'!$D$19,if(D12='COSTS 2023-24'!$B$20,H12*'COSTS 2023-24'!$D$20,if(D12='COSTS 2023-24'!$B$21,H12*'COSTS 2023-24'!$D$21,if(D12='COSTS 2023-24'!$B$22,H12*'COSTS 2023-24'!$D$22,"")))))))))))))))))))) -> 0 | K12: =if(J12="Standard",0.2,0) -> 0 | L12: =I12*K12 -> 0 | M12: =I12+L12 -> 0
G13: Cost before VAT | I13: =sum(I6:I12) -> 0 | L13: =sum(L6:L12) -> 0 | M13: =sum(M6:M12) -> 0
K14: LINK TO NCC DEBTORS

Sheet Sheet2
A1: Facility
A3: Conference Room
A4: IT Suite
A5: The Learning Resource Centre (LRC)
A6: Large Teaching Room
A7: Jubilee Classroom
A8: Drama Studio
A9: Aspire Café
A10: Cooking Room
A11: Main Toilets
A12: Sports Halls
A13: Changing Rooms
... A23: Caretaker Open/close
